BEGIN:VCALENDAR
VERSION:2.0
PRODID:-//    Wassersport Plauerhof e.V. - ECPv6.15.20//NONSGML v1.0//EN
CALSCALE:GREGORIAN
METHOD:PUBLISH
X-ORIGINAL-URL:https://wsv-plauerhof.de
X-WR-CALDESC:Veranstaltungen für     Wassersport Plauerhof e.V.
REFRESH-INTERVAL;VALUE=DURATION:PT1H
X-Robots-Tag:noindex
X-PUBLISHED-TTL:PT1H
BEGIN:VTIMEZONE
TZID:Europe/Berlin
BEGIN:DAYLIGHT
TZOFFSETFROM:+0100
TZOFFSETTO:+0200
TZNAME:CEST
DTSTART:20220327T010000
END:DAYLIGHT
BEGIN:STANDARD
TZOFFSETFROM:+0200
TZOFFSETTO:+0100
TZNAME:CET
DTSTART:20221030T010000
END:STANDARD
BEGIN:DAYLIGHT
TZOFFSETFROM:+0100
TZOFFSETTO:+0200
TZNAME:CEST
DTSTART:20230326T010000
END:DAYLIGHT
BEGIN:STANDARD
TZOFFSETFROM:+0200
TZOFFSETTO:+0100
TZNAME:CET
DTSTART:20231029T010000
END:STANDARD
BEGIN:DAYLIGHT
TZOFFSETFROM:+0100
TZOFFSETTO:+0200
TZNAME:CEST
DTSTART:20240331T010000
END:DAYLIGHT
BEGIN:STANDARD
TZOFFSETFROM:+0200
TZOFFSETTO:+0100
TZNAME:CET
DTSTART:20241027T010000
END:STANDARD
END:VTIMEZONE
BEGIN:VEVENT
DTSTART;TZID=Europe/Berlin:20230812T140000
DTEND;TZID=Europe/Berlin:20230812T233000
DTSTAMP:20260421T125409
CREATED:20230725T083012Z
LAST-MODIFIED:20230725T083012Z
UID:220-1691848800-1691883000@wsv-plauerhof.de
SUMMARY:Sommerfest am 12.08.2023
DESCRIPTION:Auch in diesem Jahr werden wir ein Sommerfest mit Euch feiern.\nSeid herzlich eingeladen für den 12.08.2023 ab 14:00 mit dem gesamten Verein auf unserem Vereinsgelände zu feiern\, zu spielen und mehr. \nGebt dem Vorstand bitte bis zum 01.08.23 eine Rückmeldung\, auch\, ob Ihr vor Ort helfen und unterstützen könnt. \nDie Einladung findet hier hier unter diesem Link.  \nViele Grüße\nEuer Vorstand
URL:https://wsv-plauerhof.de/event/sommerfest-am-12-08-2023/
END:VEVENT
END:VCALENDAR