BEGIN:VCALENDAR
VERSION:2.0
PRODID:-//    Wassersport Plauerhof e.V. - ECPv6.15.20//NONSGML v1.0//EN
CALSCALE:GREGORIAN
METHOD:PUBLISH
X-ORIGINAL-URL:https://wsv-plauerhof.de
X-WR-CALDESC:Veranstaltungen für     Wassersport Plauerhof e.V.
REFRESH-INTERVAL;VALUE=DURATION:PT1H
X-Robots-Tag:noindex
X-PUBLISHED-TTL:PT1H
BEGIN:VTIMEZONE
TZID:Europe/Berlin
BEGIN:DAYLIGHT
TZOFFSETFROM:+0100
TZOFFSETTO:+0200
TZNAME:CEST
DTSTART:20220327T010000
END:DAYLIGHT
BEGIN:STANDARD
TZOFFSETFROM:+0200
TZOFFSETTO:+0100
TZNAME:CET
DTSTART:20221030T010000
END:STANDARD
BEGIN:DAYLIGHT
TZOFFSETFROM:+0100
TZOFFSETTO:+0200
TZNAME:CEST
DTSTART:20230326T010000
END:DAYLIGHT
BEGIN:STANDARD
TZOFFSETFROM:+0200
TZOFFSETTO:+0100
TZNAME:CET
DTSTART:20231029T010000
END:STANDARD
BEGIN:DAYLIGHT
TZOFFSETFROM:+0100
TZOFFSETTO:+0200
TZNAME:CEST
DTSTART:20240331T010000
END:DAYLIGHT
BEGIN:STANDARD
TZOFFSETFROM:+0200
TZOFFSETTO:+0100
TZNAME:CET
DTSTART:20241027T010000
END:STANDARD
END:VTIMEZONE
BEGIN:VEVENT
DTSTART;TZID=Europe/Berlin:20230513T090000
DTEND;TZID=Europe/Berlin:20230513T123000
DTSTAMP:20260421T165900
CREATED:20230429T121414Z
LAST-MODIFIED:20230429T121628Z
UID:207-1683968400-1683981000@wsv-plauerhof.de
SUMMARY:Arbeitseinsatz
DESCRIPTION:Unser nächster Arbeitseinsatz ist am 13.05.2023 von 9:00 – 12:30 Uhr auf unserem Gelände auf dem Plauerhof. \nAbmeldungen bitte vorher an den Vorstand.
URL:https://wsv-plauerhof.de/event/arbeitseinsatz/
CATEGORIES:1. Arbeitseinsatz
END:VEVENT
BEGIN:VEVENT
DTSTART;TZID=Europe/Berlin:20230513T140000
DTEND;TZID=Europe/Berlin:20230513T160000
DTSTAMP:20260421T165900
CREATED:20230416T133605Z
LAST-MODIFIED:20230429T115217Z
UID:116-1683986400-1683993600@wsv-plauerhof.de
SUMMARY:Mitgliederversammlung 2023
DESCRIPTION:Liebe Mitglieder\, \nder Vorstand lädt herzlich zur diesjährigen Mitgliedersammlung am 13.05.2023 um 14:00 in unserem Vereinshaus im Plauerhof ein. \nDie geplante Tagesordnung findet ihr unter \nEinladung Mitgliederversammlung 2023 \nAnträge zur Tagesordnung sind bis 14 Tage vor der Mitgliederversammlung schriftlich (auch per Email) an den Vorstand zu richten. \n  \nViele Grüße \nDer Vorstand \n 
URL:https://wsv-plauerhof.de/event/mitgliederversammlung-2023/
CATEGORIES:Mitgliederversammlung
END:VEVENT
END:VCALENDAR